BEGIN:VCALENDAR
VERSION:2.0
PRODID:-//Fortific Arte - ECPv6.15.20//NONSGML v1.0//EN
CALSCALE:GREGORIAN
METHOD:PUBLISH
X-ORIGINAL-URL:https://fortificarte.eu
X-WR-CALDESC:Eventos para Fortific Arte
REFRESH-INTERVAL;VALUE=DURATION:PT1H
X-Robots-Tag:noindex
X-PUBLISHED-TTL:PT1H
BEGIN:VTIMEZONE
TZID:UTC
BEGIN:STANDARD
TZOFFSETFROM:+0000
TZOFFSETTO:+0000
TZNAME:UTC
DTSTART:20160101T000000
END:STANDARD
END:VTIMEZONE
BEGIN:VEVENT
DTSTART;TZID=UTC:20170718T223000
DTEND;TZID=UTC:20170718T223000
DTSTAMP:20260424T195703
CREATED:20170706T094847Z
LAST-MODIFIED:20170706T095208Z
UID:1719-1500417000-1500417000@fortificarte.eu
SUMMARY:GRUPO FOLKLÓRICO SAN RAFAEL
DESCRIPTION:Todos nuestros esfuerzos han sido encaminados hacia la investigación\, recopilación y difusión de las danzas\, canciones e indumentarias populares de Córdoba y su provincia y de Andalucía en general\, contando en su repertorio con más de cuarenta bailes y más de veinte trajes distintos representativos de los diferentes pueblos. \nFruto de los desplazamientos e investigaciones y\, cómo no\, del denominador común de seguir luchando por el folclore popular y su reivindicación\, el Grupo de Danzas San Rafael se hermanó con el Grupo Alcaria de Alcaracejos (Córdoba) en Febrero de 2005\, como apoyo músico-vocal. \nEl Grupo se ha ido renovando con la incorporación continua de jóvenes. En la actualidad\, algunos de ellos provienen del alumnado del Conservatorio Profesional de Danza ‘Luis del Río’ de Córdoba\, o de Conservatorios Superiores\, con cuyos profesores el Grupo mantiene una estrecha colaboración\, así como con la cátedra de Folklore de la Universidad de Córdoba.
URL:https://fortificarte.eu/event/grupo-folkorico-san-rafael/
LOCATION:Plaza Mayor\, Ciudad Rodrigo\, España
CATEGORIES:Agenda
END:VEVENT
BEGIN:VEVENT
DTSTART;TZID=UTC:20170717T223000
DTEND;TZID=UTC:20170717T223000
DTSTAMP:20260424T195703
CREATED:20170706T092053Z
LAST-MODIFIED:20170706T094414Z
UID:1709-1500330600-1500330600@fortificarte.eu
SUMMARY:PRIMORDIAIS
DESCRIPTION:Primordiais está formado por Marcelo DoBode y Luis Martíns\, dos músicos del ámbito de la música gallega folk más actual. Los dos artistas nos invitan a un viaje por bellos jardines en donde crecen y afloran toda la belleza que une el arpa con la voz y percusión más terrenal. Su primer trabajo\, “Droguería Moderna”\, es un ejemplo de que la tradición musical gallega continúa creando e innovando.
URL:https://fortificarte.eu/event/primordiais/
LOCATION:Plaza Mayor\, Ciudad Rodrigo\, España
CATEGORIES:Agenda
END:VEVENT
BEGIN:VEVENT
DTSTART;TZID=UTC:20170717T213000
DTEND;TZID=UTC:20170717T213000
DTSTAMP:20260424T195703
CREATED:20170706T093854Z
LAST-MODIFIED:20170706T095134Z
UID:1715-1500327000-1500327000@fortificarte.eu
SUMMARY:GRUPO FOLKLÓRICO SAN RAFAEL
DESCRIPTION:Todos nuestros esfuerzos han sido encaminados hacia la investigación\, recopilación y difusión de las danzas\, canciones e indumentarias populares de Córdoba y su provincia y de Andalucía en general\, contando en su repertorio con más de cuarenta bailes y más de veinte trajes distintos representativos de los diferentes pueblos. \nFruto de los desplazamientos e investigaciones y\, cómo no\, del denominador común de seguir luchando por el folclore popular y su reivindicación\, el Grupo de Danzas San Rafael se hermanó con el Grupo Alcaria de Alcaracejos (Córdoba) en Febrero de 2005\, como apoyo músico-vocal. \nEl Grupo se ha ido renovando con la incorporación continua de jóvenes. En la actualidad\, algunos de ellos provienen del alumnado del Conservatorio Profesional de Danza ‘Luis del Río’ de Córdoba\, o de Conservatorios Superiores\, con cuyos profesores el Grupo mantiene una estrecha colaboración\, así como con la cátedra de Folklore de la Universidad de Córdoba.
URL:https://fortificarte.eu/event/grupo-folckorico-san-rafael/
LOCATION:Centro Cultural de Freixo. Almeida.\, Almeida\, Portugal
CATEGORIES:Agenda
END:VEVENT
BEGIN:VEVENT
DTSTART;VALUE=DATE:20170703
DTEND;VALUE=DATE:20170704
DTSTAMP:20260424T195703
CREATED:20170701T092207Z
LAST-MODIFIED:20170701T092604Z
UID:1674-1499040000-1499126399@fortificarte.eu
SUMMARY:Apertura de web
DESCRIPTION:Presentación de la web www.fortific-arte.com
URL:https://fortificarte.eu/event/apertura-de-web/
CATEGORIES:Agenda
END:VEVENT
END:VCALENDAR